BEGIN:VCALENDAR
VERSION:2.0
CALSCALE:GREGORIAN
METHOD:PUBLISH
PRODID://UALA//515729
BEGIN:VEVENT
DTSTAMP:20260424T114101
VTIMEZONE:America/Denver
DTSTART:20260915T140000Z
DTEND:20260915T220000Z
UID:515729
SUMMARY:2026 Annual Golf Tournament
LOCATION:Davis Park Golf Course, 1074 Nicholls Rd, Kaysville, Ut, 84037
DESCRIPTION:2026 Annual Golf Tournament\n\n09/15/26 08:00 AM MST\n - 09/15/26 04:00 PM MST\Description:\nðŸ“… September 15, 2026\nðŸ“Davis Park Golf Course- Kaysville, UT\n\nGrab your clubs and get ready for a day of laughs, swings, and a little friendly rivalry. We’ll have great prizes, awesome people, and plenty of ways to support Utah’s amazing assisted living communities.\n\nTeams and hole sponsorships are reserved on a first come, first served basis.\n\nMembers: $800/foursome\nNon-Members: $1200/foursome\n\nHole Sponsorships: \nMembers: $650/hole\nNon-Members: $1200/hole \n\n\n**In compliance with Section 6033(e) of the Internal Revenue Code (the Code), the Utah Assisted Living Association reasonably estimates that 100% of the donations for the golf tournament will be spent on lobbying and other expenditures subject to Section 162(e)(1) of the Code. Therefore, these portions of the dues are not deductible for Federal income tax purposes.\Location:\nDavis Park Golf Course\n1074 Nicholls Rd\nKaysville, Ut 84037
X-ALT-DESC;FMTTYPE=text/html:2026 Annual Golf Tournament<br /><br />09/15/26 08:00 AM MST - 09/15/26 04:00 PM MST<br />Description:<br />ðŸ“…&nbsp;<strong>September 15, 2026</strong><br />
ðŸ“Davis Park Golf Course- Kaysville, UT<br />
<br />
Grab your clubs and get ready for a day of laughs, swings, and a little friendly rivalry. We&rsquo;ll have great prizes, awesome people, and plenty of ways to support Utah&rsquo;s amazing assisted living communities.<br />
<br />
Teams and hole sponsorships are reserved on a first come, first served basis.<br />
<br />
Members: $800/foursome<br />
Non-Members: $1200/foursome<br />
<br />
Hole Sponsorships:&nbsp;<br />
Members: $650/hole<br />
Non-Members: $1200/hole&nbsp;<br />
<br />
<br />
**In compliance with Section 6033(e) of the Internal Revenue Code (the Code), the Utah Assisted Living Association reasonably estimates that 100% of the donations for the golf tournament will be spent on lobbying and other expenditures subject to Section 162(e)(1) of the Code. Therefore, these portions of the dues are not deductible for Federal income tax purposes.<br />Location:<br />Davis Park Golf Course<br />1074 Nicholls Rd<br />Kaysville, Ut 84037
PRIORITY:3
TRANSP:TRANSPARENT
BEGIN:VALARM
TRIGGER:-PT5M
ACTION:DISPLAY
DESCRIPTION:Reminder
END:VALARM
END:VEVENT
END:VCALENDAR
